BEGIN:VCALENDAR
VERSION:2.0
PRODID:-//Hyperlinks - ECPv6.7.0//NONSGML v1.0//EN
CALSCALE:GREGORIAN
METHOD:PUBLISH
X-ORIGINAL-URL:https://hyperlinks.ar
X-WR-CALDESC:Eventos para Hyperlinks
REFRESH-INTERVAL;VALUE=DURATION:PT1H
X-Robots-Tag:noindex
X-PUBLISHED-TTL:PT1H
BEGIN:VTIMEZONE
TZID:America/Argentina/Buenos_Aires
BEGIN:STANDARD
TZOFFSETFROM:-0300
TZOFFSETTO:-0300
TZNAME:-03
DTSTART:20220101T000000
END:STANDARD
END:VTIMEZONE
BEGIN:VEVENT
DTSTART;VALUE=DATE:20220607
DTEND;VALUE=DATE:20220924
DTSTAMP:20260421T200413
CREATED:20220622T200427Z
LAST-MODIFIED:20220622T200427Z
UID:10000105-1654560000-1663977599@hyperlinks.ar
SUMMARY:Concurso Metrar de Diseño en Aluminio
DESCRIPTION:La empresa METRAR convoca a profesionales y estudiantes argentinos o extranjeros residentes en el país a participar en el Concurso METRAR DE DISEF°JO EN ALUMINIO 2022\, que en su segunda edición tiene como temática “Muebles de exterior’. METRAR es una extrusora de aluminio con más de 25 años de trayectoria\, que busca impulsar el desarrollo de productos de diseño argentino con perfiles de aluminio para el merca­do interno y externo.
URL:https://hyperlinks.ar/evento/concurso-metrar-de-diseno-en-aluminio/
LOCATION:Buenos Aires
CATEGORIES:Concursos
ATTACH;FMTTYPE=image/jpeg:https://hyperlinks.ar/wp-content/uploads/2022/06/metrar.jpg
END:VEVENT
BEGIN:VEVENT
DTSTART;VALUE=DATE:20220628
DTEND;VALUE=DATE:20221006
DTSTAMP:20260421T200413
CREATED:20220628T091719Z
LAST-MODIFIED:20220628T092435Z
UID:10000107-1656374400-1665014399@hyperlinks.ar
SUMMARY:Talents Messe Frankfurt
DESCRIPTION:Jóvenes diseñadores del campo del diseño de interiores están invitados a postularse. \nBajo el nombre de Talents Messe Frankfurt patrocina a jóvenes diseñadores en Ambiente. Además del espacio de exhibición gratuito en un área especialmente diseñada\, el programa Talents ofrece a los participantes una plataforma de alto nivel para establecer contactos\, obtener comentarios directos y establecer contactos importantes para el comercio y la industria. La diversidad de participantes elegidos garantizará que en la exposición se muestre una amplia variedad de diseños. \nParticipación\nPara participar en el programa promocional\, todo lo que tiene que hacer es registrarse en línea y enviar fotos representativas de sus proyectos/objetos en nuestra plataforma en línea. Al participar en el programa de apoyo\, se debe asegurar que el stand gratuito asignado permanezca decorado con los productos y esté atendido durante toda la duración del evento. \nEnvíe sus solicitudes exclusivamente en línea antes del 5 de octubre de 2022. \nRegistro https://www.ambiente-application.com/talents/en/register/
URL:https://hyperlinks.ar/evento/talents-messe-frankfurt/
LOCATION:Congress Center Messe Frankfurt\, Ludwig-Erhard-Anlage 1\, Frankfurt\, 60327\, Alemania
CATEGORIES:Ferias internacionales
ATTACH;FMTTYPE=image/jpeg:https://hyperlinks.ar/wp-content/uploads/2022/06/ambiente.jpg
END:VEVENT
BEGIN:VEVENT
DTSTART;TZID=America/Argentina/Buenos_Aires:20220701T080000
DTEND;TZID=America/Argentina/Buenos_Aires:20220930T170000
DTSTAMP:20260421T200413
CREATED:20220711T163355Z
LAST-MODIFIED:20220711T172030Z
UID:10000100-1656662400-1664557200@hyperlinks.ar
SUMMARY:BAMV Fest
DESCRIPTION:Buenos Aires Music Video Festival (BAMV Fest) es el primer evento anual internacional en Argentina orientado 100% al videoclip.\n\n​Desde 2019 el Festival ha logrado ganarse un lugar en el circuito internacional de la industria videoclipasta y es hoy un evento de referencia para toda la región. ​BAMV Fest premia y apuesta por la originalidad\, creatividad y calidad de los videos seleccionados en las 33 categorías de la Competencia Oficial. ​
URL:https://hyperlinks.ar/evento/bamv-fest/
LOCATION:On line
CATEGORIES:Concursos
ATTACH;FMTTYPE=image/jpeg:https://hyperlinks.ar/wp-content/uploads/2022/07/bamvfest.jpg
END:VEVENT
BEGIN:VEVENT
DTSTART;TZID=America/Argentina/Buenos_Aires:20220809T190000
DTEND;TZID=America/Argentina/Buenos_Aires:20221018T210000
DTSTAMP:20260421T200413
CREATED:20220711T203046Z
LAST-MODIFIED:20220711T203654Z
UID:10000099-1660071600-1666126800@hyperlinks.ar
SUMMARY:CURSO DE CERTIFICACIÓN LEED
DESCRIPTION:Certificación LEED v4: Diseño\, Desarrollo y Aplicación a Proyectos de Arquitectura & Obras de Construcción. \nDesarrollado por el U.S. Green Building Council (USGBC)\, LEED™ es el estándar de diseño ambiental más distinguido y ampliamente aceptado de la certificación de la construcción sustentable. LEED™ es la norma principal de la construcción sostenible y proporciona los conocimientos básicos para los interesados en la construcción sustentable.\nLas personas que obtengan una credencial sostenible obtendrán una ventaja competitiva en el mercado laboral actual\, incluso sin experiencia previa. LEED es un sistema de certificación con una década de presencia en Argentina contando con numerosos proyectos registrados y certificados en el país. Argentina Green Building Council (AGBC) como miembro pleno del World Green Building y USGBC desde el año 2009\, participa activamente en el Comité de asesores del LEED™ International Roundtable\, impulsada por el conocimiento colectivo de los Consejos de Construcción Verde que representan a varios países del mundo. \n[feather_share]
URL:https://hyperlinks.ar/evento/curso-de-certificacion-leed/
LOCATION:On line
CATEGORIES:Capacitaciones
ATTACH;FMTTYPE=image/jpeg:https://hyperlinks.ar/wp-content/uploads/2022/07/cursoleed-2020.jpg
ORGANIZER;CN="Argentina Green Building Council":MAILTO:educacion@argentinagbc.org.ar
END:VEVENT
BEGIN:VEVENT
DTSTART;VALUE=DATE:20220914
DTEND;VALUE=DATE:20220918
DTSTAMP:20260421T200413
CREATED:20220622T181951Z
LAST-MODIFIED:20220622T181951Z
UID:10000062-1663113600-1663459199@hyperlinks.ar
SUMMARY:Fesqua
DESCRIPTION:TECNOPERFILES estará presente en FESQUA\, la feria brasileña más importante de la industria de las aberturas\, a desarrollarse del 14 al 17 de septiembre. \nFeria Internacional de Industria de Ventana realizá su 14ª edición\, consolidada como el mayor y más importante evento para el mercado de Ventanas de América Latina. La feria se ha transformado en un poderoso generador de negocios y oportunidades para las empresas expositoras. \n[feather_share]
URL:https://hyperlinks.ar/evento/fesqua/
LOCATION:San Pablo Expo\, 1\,5\, Rod. dos Imigrantes - Vila Água Funda\, 04329-900\, Brasil\, San Pablo\, Brasil
CATEGORIES:Ferias internacionales
ATTACH;FMTTYPE=image/jpeg:https://hyperlinks.ar/wp-content/uploads/2022/06/fesqua.jpg
ORGANIZER;CN="Contramarco":MAILTO:contramarco@contramarco.com.br
END:VEVENT
END:VCALENDAR