BEGIN:VCALENDAR
VERSION:2.0
PRODID:-//Hyperlinks - ECPv6.7.0//NONSGML v1.0//EN
CALSCALE:GREGORIAN
METHOD:PUBLISH
X-WR-CALNAME:Hyperlinks
X-ORIGINAL-URL:https://hyperlinks.ar
X-WR-CALDESC:Eventos para Hyperlinks
REFRESH-INTERVAL;VALUE=DURATION:PT1H
X-Robots-Tag:noindex
X-PUBLISHED-TTL:PT1H
BEGIN:VTIMEZONE
TZID:America/Argentina/Buenos_Aires
BEGIN:STANDARD
TZOFFSETFROM:-0300
TZOFFSETTO:-0300
TZNAME:-03
DTSTART:20230101T000000
END:STANDARD
END:VTIMEZONE
BEGIN:VEVENT
DTSTART;TZID=America/Argentina/Buenos_Aires:20230428T080000
DTEND;TZID=America/Argentina/Buenos_Aires:20230519T170000
DTSTAMP:20260420T221851
CREATED:20230428T180822Z
LAST-MODIFIED:20230428T181623Z
UID:10000116-1682668800-1684515600@hyperlinks.ar
SUMMARY:Diseño Argentino Exponencial (DAE)
DESCRIPTION:Se encuentra abierta la inscripción a participantes para ser beneficiario de una beca de formación intensiva para propuestas de Diseño vinculadas a sustentabilidad\, desarrollo sostenible\, triple impacto\, ciencia\, tecnología e innovación de producto. \n¡Tenés tiempo de postularte hasta el 19 de mayo 2023! \nPOSTULA TU PROYECTO \nDiseño Argentino Exponencial (DAE) es un programa intensivo realizado en el marco del Creative Bootcamp a cargo de la Fundación Bunge y Born y el British Council\, el cual busca potenciar el crecimiento y desarrollo de las industrias creativas nacionales mediante la formación\, el mentoreo y la posibilidad de concursar como beneficiario para uno de los hasta 3 (tres) Fondos de Capital Semilla por u$d 5.000.
URL:https://hyperlinks.ar/evento/diseno-argentino-exponencial-dae/
LOCATION:Buenos Aires
CATEGORIES:Concursos
ATTACH;FMTTYPE=image/jpeg:https://hyperlinks.ar/wp-content/uploads/2023/04/cropped-daeRecurso-3@2x.jpg
ORGANIZER;CN="Dise%C3%B1o Argentino Exponencial":MAILTO:creative.bootcamp.argentina@gmail.com
END:VEVENT
END:VCALENDAR