BEGIN:VCALENDAR
VERSION:2.0
PRODID:-//Hyperlinks - ECPv6.7.0//NONSGML v1.0//EN
CALSCALE:GREGORIAN
METHOD:PUBLISH
X-WR-CALNAME:Hyperlinks
X-ORIGINAL-URL:https://hyperlinks.ar
X-WR-CALDESC:Eventos para Hyperlinks
REFRESH-INTERVAL;VALUE=DURATION:PT1H
X-Robots-Tag:noindex
X-PUBLISHED-TTL:PT1H
BEGIN:VTIMEZONE
TZID:America/Argentina/Buenos_Aires
BEGIN:STANDARD
TZOFFSETFROM:-0300
TZOFFSETTO:-0300
TZNAME:-03
DTSTART:20220101T000000
END:STANDARD
END:VTIMEZONE
BEGIN:VEVENT
DTSTART;VALUE=DATE:20220721
DTEND;VALUE=DATE:20220829
DTSTAMP:20260424T092649
CREATED:20220808T184257Z
LAST-MODIFIED:20220808T205558Z
UID:10000088-1658361600-1661731199@hyperlinks.ar
SUMMARY:Topografía Infinita
DESCRIPTION:Esta exposición antológica reúne más de cuarenta pinturas y objetos de diseño más un site specific realizado en acero con el que se introduce en las últimas tendencias del neocinetismo. La muestra está curada por Sergio Bazán y cuenta con textos de Eugenia Garay Basualdo. La sección de diseño está curada por La Fundación IDA\, Franco Chimento y la producción es de Inés Starc. \nLa reconocida trayectoria de Fernando Poggio en el diseño industrial y objetual muestra una inagotable faceta de producciones que va desde el mobiliario\, el accesorio y el proyecto escultórico corporativo\, y que estarán expuestos como un complemento insoslayable de su corpus de obras. \n[feather_share]
URL:https://hyperlinks.ar/evento/topografia-infinita/
LOCATION:MARQ\, Av. del Libertador 999\, CABA\, Buenos Aires\, C1001\, Argentina
CATEGORIES:Exhibiciones
ATTACH;FMTTYPE=image/jpeg:https://hyperlinks.ar/wp-content/uploads/2022/08/poggio_topografia-infinita.jpg
ORGANIZER;CN="MARQ Museo de Arquitectura y Dise%C3%B1o":MAILTO:museo@socearq.org
GEO:-34.5343674;-58.4744191
X-APPLE-STRUCTURED-LOCATION;VALUE=URI;X-ADDRESS=MARQ Av. del Libertador 999 CABA Buenos Aires C1001 Argentina;X-APPLE-RADIUS=500;X-TITLE=Av. del Libertador 999:geo:-58.4744191,-34.5343674
END:VEVENT
END:VCALENDAR