BEGIN:VCALENDAR
VERSION:2.0
PRODID:-//Hyperlinks - ECPv6.7.0//NONSGML v1.0//EN
CALSCALE:GREGORIAN
METHOD:PUBLISH
X-WR-CALNAME:Hyperlinks
X-ORIGINAL-URL:https://hyperlinks.ar
X-WR-CALDESC:Eventos para Hyperlinks
REFRESH-INTERVAL;VALUE=DURATION:PT1H
X-Robots-Tag:noindex
X-PUBLISHED-TTL:PT1H
BEGIN:VTIMEZONE
TZID:America/Argentina/Buenos_Aires
BEGIN:STANDARD
TZOFFSETFROM:-0300
TZOFFSETTO:-0300
TZNAME:-03
DTSTART:20220101T000000
END:STANDARD
END:VTIMEZONE
BEGIN:VEVENT
DTSTART;TZID=America/Argentina/Buenos_Aires:20220623T150000
DTEND;TZID=America/Argentina/Buenos_Aires:20220623T150000
DTSTAMP:20260425T081937
CREATED:20220615T225319Z
LAST-MODIFIED:20220622T162914Z
UID:10000074-1655996400-1655996400@hyperlinks.ar
SUMMARY:Ciclo de charlas online / Aluar
DESCRIPTION:BATIENTES DE ALTA PRESTACIÓN | Tipologia plegadiza A40 / A40RPT \nDirigido a: Carpinteros\, profesionales de la arquitectura y la construcción. \nTemario: Esquemas\, Posibilidades de fabricación\, Perfiles\, Descuentos para corte de perfiles\, Video de secuencia de armado-Accesorios. \n[feather_share]
URL:https://hyperlinks.ar/evento/ciclo-de-charlas-online-aluar/
LOCATION:On line
CATEGORIES:Capacitaciones
ATTACH;FMTTYPE=image/jpeg:https://hyperlinks.ar/wp-content/uploads/2022/06/aluar-evento-online-400x215-1.jpg
ORGANIZER;CN="Aluar":MAILTO:https://aluar.com.ar/contacto
END:VEVENT
END:VCALENDAR