BEGIN:VCALENDAR
VERSION:2.0
PRODID:-//Hyperlinks - ECPv6.7.0//NONSGML v1.0//EN
CALSCALE:GREGORIAN
METHOD:PUBLISH
X-ORIGINAL-URL:https://hyperlinks.ar
X-WR-CALDESC:Eventos para Hyperlinks
REFRESH-INTERVAL;VALUE=DURATION:PT1H
X-Robots-Tag:noindex
X-PUBLISHED-TTL:PT1H
BEGIN:VTIMEZONE
TZID:America/Argentina/Buenos_Aires
BEGIN:STANDARD
TZOFFSETFROM:-0300
TZOFFSETTO:-0300
TZNAME:-03
DTSTART:20220101T000000
END:STANDARD
END:VTIMEZONE
BEGIN:VEVENT
DTSTART;VALUE=DATE:20220607
DTEND;VALUE=DATE:20220924
DTSTAMP:20260425T013009
CREATED:20220622T200427Z
LAST-MODIFIED:20220622T200427Z
UID:10000105-1654560000-1663977599@hyperlinks.ar
SUMMARY:Concurso Metrar de Diseño en Aluminio
DESCRIPTION:La empresa METRAR convoca a profesionales y estudiantes argentinos o extranjeros residentes en el país a participar en el Concurso METRAR DE DISEF°JO EN ALUMINIO 2022\, que en su segunda edición tiene como temática “Muebles de exterior’. METRAR es una extrusora de aluminio con más de 25 años de trayectoria\, que busca impulsar el desarrollo de productos de diseño argentino con perfiles de aluminio para el merca­do interno y externo.
URL:https://hyperlinks.ar/evento/concurso-metrar-de-diseno-en-aluminio/
LOCATION:Buenos Aires
CATEGORIES:Concursos
ATTACH;FMTTYPE=image/jpeg:https://hyperlinks.ar/wp-content/uploads/2022/06/metrar.jpg
END:VEVENT
BEGIN:VEVENT
DTSTART;VALUE=DATE:20220628
DTEND;VALUE=DATE:20221006
DTSTAMP:20260425T013009
CREATED:20220628T091719Z
LAST-MODIFIED:20220628T092435Z
UID:10000107-1656374400-1665014399@hyperlinks.ar
SUMMARY:Talents Messe Frankfurt
DESCRIPTION:Jóvenes diseñadores del campo del diseño de interiores están invitados a postularse. \nBajo el nombre de Talents Messe Frankfurt patrocina a jóvenes diseñadores en Ambiente. Además del espacio de exhibición gratuito en un área especialmente diseñada\, el programa Talents ofrece a los participantes una plataforma de alto nivel para establecer contactos\, obtener comentarios directos y establecer contactos importantes para el comercio y la industria. La diversidad de participantes elegidos garantizará que en la exposición se muestre una amplia variedad de diseños. \nParticipación\nPara participar en el programa promocional\, todo lo que tiene que hacer es registrarse en línea y enviar fotos representativas de sus proyectos/objetos en nuestra plataforma en línea. Al participar en el programa de apoyo\, se debe asegurar que el stand gratuito asignado permanezca decorado con los productos y esté atendido durante toda la duración del evento. \nEnvíe sus solicitudes exclusivamente en línea antes del 5 de octubre de 2022. \nRegistro https://www.ambiente-application.com/talents/en/register/
URL:https://hyperlinks.ar/evento/talents-messe-frankfurt/
LOCATION:Congress Center Messe Frankfurt\, Ludwig-Erhard-Anlage 1\, Frankfurt\, 60327\, Alemania
CATEGORIES:Ferias internacionales
ATTACH;FMTTYPE=image/jpeg:https://hyperlinks.ar/wp-content/uploads/2022/06/ambiente.jpg
END:VEVENT
BEGIN:VEVENT
DTSTART;VALUE=DATE:20220701
DTEND;VALUE=DATE:20220901
DTSTAMP:20260425T013009
CREATED:20220808T183258Z
LAST-MODIFIED:20220808T190554Z
UID:10000089-1656633600-1661990399@hyperlinks.ar
SUMMARY:Premio Azcuy
DESCRIPTION:El Premio Azcuy es un concurso nacional dirigido a artistas argentinos\, o que residan hace más de tres años en el país\, ya sean individuales o colectivos. Su misión es reconocer\, difundir y fomentar la producción artística local\, estimulando la puesta en valor del arte nacional. Es organizado por cuarto año consecutivo\, por Azcuy\, la compañía integral de real estate\, en alianza con el Museo de Arte Moderno de Buenos Aires (institución dependiente del Ministerio de Cultura del Gobierno de la Ciudad). \nCada año\, a los artistas se los invita a presentar un proyecto de obra que conciban especialmente para uno de los edificios diseñados y desarrollados por Azcuy. Este año será para intervenir el edificio Donna Magna. \nDe esta manera\, el Premio busca producir obras que respondan de manera directa al entorno en el que vivimos y activen en él nuevas experiencias estéticas\, sociales\, históricas y arquitectónicas. Es además\, para los artistas\, una oportunidad única de llevar su práctica a nuevos escenarios y escalas. \nEl Premio Azcuy otorga un único premio al proyecto ganador que\, en su edición 2022\, será de $2.000.000 (dos millones de pesos argentinos) más la producción de la obra. \n \n[feather_share]
URL:https://hyperlinks.ar/evento/premio-azcuy/
LOCATION:On line
CATEGORIES:Concursos
ATTACH;FMTTYPE=image/png:https://hyperlinks.ar/wp-content/uploads/2022/08/PREMIO_azcuy_logo.png
END:VEVENT
BEGIN:VEVENT
DTSTART;TZID=America/Argentina/Buenos_Aires:20220701T080000
DTEND;TZID=America/Argentina/Buenos_Aires:20220930T170000
DTSTAMP:20260425T013009
CREATED:20220711T163355Z
LAST-MODIFIED:20220711T172030Z
UID:10000100-1656662400-1664557200@hyperlinks.ar
SUMMARY:BAMV Fest
DESCRIPTION:Buenos Aires Music Video Festival (BAMV Fest) es el primer evento anual internacional en Argentina orientado 100% al videoclip.\n\n​Desde 2019 el Festival ha logrado ganarse un lugar en el circuito internacional de la industria videoclipasta y es hoy un evento de referencia para toda la región. ​BAMV Fest premia y apuesta por la originalidad\, creatividad y calidad de los videos seleccionados en las 33 categorías de la Competencia Oficial. ​
URL:https://hyperlinks.ar/evento/bamv-fest/
LOCATION:On line
CATEGORIES:Concursos
ATTACH;FMTTYPE=image/jpeg:https://hyperlinks.ar/wp-content/uploads/2022/07/bamvfest.jpg
END:VEVENT
BEGIN:VEVENT
DTSTART;VALUE=DATE:20220721
DTEND;VALUE=DATE:20220829
DTSTAMP:20260425T013009
CREATED:20220808T184257Z
LAST-MODIFIED:20220808T205558Z
UID:10000088-1658361600-1661731199@hyperlinks.ar
SUMMARY:Topografía Infinita
DESCRIPTION:Esta exposición antológica reúne más de cuarenta pinturas y objetos de diseño más un site specific realizado en acero con el que se introduce en las últimas tendencias del neocinetismo. La muestra está curada por Sergio Bazán y cuenta con textos de Eugenia Garay Basualdo. La sección de diseño está curada por La Fundación IDA\, Franco Chimento y la producción es de Inés Starc. \nLa reconocida trayectoria de Fernando Poggio en el diseño industrial y objetual muestra una inagotable faceta de producciones que va desde el mobiliario\, el accesorio y el proyecto escultórico corporativo\, y que estarán expuestos como un complemento insoslayable de su corpus de obras. \n[feather_share]
URL:https://hyperlinks.ar/evento/topografia-infinita/
LOCATION:MARQ\, Av. del Libertador 999\, CABA\, Buenos Aires\, C1001\, Argentina
CATEGORIES:Exhibiciones
ATTACH;FMTTYPE=image/jpeg:https://hyperlinks.ar/wp-content/uploads/2022/08/poggio_topografia-infinita.jpg
ORGANIZER;CN="MARQ Museo de Arquitectura y Dise%C3%B1o":MAILTO:museo@socearq.org
GEO:-34.5343674;-58.4744191
X-APPLE-STRUCTURED-LOCATION;VALUE=URI;X-ADDRESS=MARQ Av. del Libertador 999 CABA Buenos Aires C1001 Argentina;X-APPLE-RADIUS=500;X-TITLE=Av. del Libertador 999:geo:-58.4744191,-34.5343674
END:VEVENT
BEGIN:VEVENT
DTSTART;TZID=America/Argentina/Buenos_Aires:20220802T083000
DTEND;TZID=America/Argentina/Buenos_Aires:20220802T103000
DTSTAMP:20260425T013009
CREATED:20220715T152759Z
LAST-MODIFIED:20220715T153040Z
UID:10000095-1659429000-1659436200@hyperlinks.ar
SUMMARY:Curso virtual ArchiCAD: el modelado de carpinterías BIM de Hydro Argentina
DESCRIPTION:El curso inicia el 2 de agosto y se desarrollará durante 6 encuentros de dos horas y media cada uno en el horario de 8.30 a 10.30\, una vez por semana con modalidad virtual. El objetivo es capacitar a arquitectos en las prácticas BIM para que puedan crear y editar proyectos de manera virtual. \nInscribite haciendo click\, aquí! \n[feather_share]
URL:https://hyperlinks.ar/evento/curso-virtual-archicad-el-modelado-de-carpinterias-bim-de-hydro-argentina/
LOCATION:On line
CATEGORIES:Capacitaciones
ATTACH;FMTTYPE=image/jpeg:https://hyperlinks.ar/wp-content/uploads/2022/07/BIm-ArchiCaD.jpg
END:VEVENT
BEGIN:VEVENT
DTSTART;VALUE=DATE:20220808
DTEND;VALUE=DATE:20220809
DTSTAMP:20260425T013010
CREATED:20220711T160055Z
LAST-MODIFIED:20220711T160614Z
UID:10000101-1659916800-1660003199@hyperlinks.ar
SUMMARY:Premio CPAU
DESCRIPTION:En conjunto con la Sociedad Central de Arquitectos (SCA)\, te  invitamos a participar del 18° Premio SCA-CPAU de Arquitectura y Urbanismo.  Las categorías de esta edición son: Obras construidas de arquitectura\, paisajismo e interiorismo (Cat. A)\, Ensayos\, investigaciones y textos técnicos (Cat. B) y Urbanismo: planes\, proyectos y obras de planificación urbana (Cat. C). \nLa inscripción de la obra o trabajo al Premio es gratuita para la matrícula del CPAU y para socios/as de la SCA. Para el resto\, los valores son: $ 1.500 (Cat. A)\, $ 800 (Cat. B) y $ 800 (Cat. C). Es necesario completar una ficha de inscripción por cada obra. Si presentás más de una\, el valor a partir de la segunda es del 50%. Igual para las Cat. B y C. \nLa inscripción se realizará a través de la página web del premio\, desde donde podrás descargar también las Bases. \nPara la Cat. A\, tanto quienes tienen la autoría de la obra como quienes colaboraron en ella deben acreditar haber estado con su matrícula habilitada a la fecha en que se ejecutó la obra presentada\, ya sea en el CPAU o en el Consejo o Colegio con jurisdicción donde se construyó la obra. \nTodas las obras a ser presentadas deben haber sido ejecutadas por profesionales que a la fecha de realización (julio de 2017 / julio de 2022) cumplan\, según la categoría de la obra\, con las condiciones especificadas en las bases. \nLa presentación de los trabajos de las categorías A y C se realizarán en formato digital. Deberán cargarse en el sitio del premio de acuerdo a la indicación que figura en las Bases. \nLas obras de la categoría B serán entregadas en mano o por mensajería a la sede del CPAU: 25 de Mayo 482 (C1002ABJ)\, Ciudad de Buenos Aires\, de lunes a viernes de 10 a 17 h. \nLas instituciones organizadoras darán a conocer luego de la votación y sorteo realizados a la recepción de los trabajos\, los nombres de las personas que integrarán el Jurado\, quien determinará los criterios de valoración de las obras premiadas que quedarán reflejados en el acta de adjudicación de los premios así como las motivaciones del veredicto. \nEl veredicto del fallo se dará a conocer en acto público de acuerdo al calendario que figura en las Bases.
URL:https://hyperlinks.ar/evento/premio-cpau/
LOCATION:On line
CATEGORIES:Concursos
ATTACH;FMTTYPE=image/jpeg:https://hyperlinks.ar/wp-content/uploads/2022/07/premio-cpau.jpg
ORGANIZER;CN="CPAU":MAILTO:consultas@premioscacpau.org
END:VEVENT
BEGIN:VEVENT
DTSTART;TZID=America/Argentina/Buenos_Aires:20220809T190000
DTEND;TZID=America/Argentina/Buenos_Aires:20221018T210000
DTSTAMP:20260425T013010
CREATED:20220711T203046Z
LAST-MODIFIED:20220711T203654Z
UID:10000099-1660071600-1666126800@hyperlinks.ar
SUMMARY:CURSO DE CERTIFICACIÓN LEED
DESCRIPTION:Certificación LEED v4: Diseño\, Desarrollo y Aplicación a Proyectos de Arquitectura & Obras de Construcción. \nDesarrollado por el U.S. Green Building Council (USGBC)\, LEED™ es el estándar de diseño ambiental más distinguido y ampliamente aceptado de la certificación de la construcción sustentable. LEED™ es la norma principal de la construcción sostenible y proporciona los conocimientos básicos para los interesados en la construcción sustentable.\nLas personas que obtengan una credencial sostenible obtendrán una ventaja competitiva en el mercado laboral actual\, incluso sin experiencia previa. LEED es un sistema de certificación con una década de presencia en Argentina contando con numerosos proyectos registrados y certificados en el país. Argentina Green Building Council (AGBC) como miembro pleno del World Green Building y USGBC desde el año 2009\, participa activamente en el Comité de asesores del LEED™ International Roundtable\, impulsada por el conocimiento colectivo de los Consejos de Construcción Verde que representan a varios países del mundo. \n[feather_share]
URL:https://hyperlinks.ar/evento/curso-de-certificacion-leed/
LOCATION:On line
CATEGORIES:Capacitaciones
ATTACH;FMTTYPE=image/jpeg:https://hyperlinks.ar/wp-content/uploads/2022/07/cursoleed-2020.jpg
ORGANIZER;CN="Argentina Green Building Council":MAILTO:educacion@argentinagbc.org.ar
END:VEVENT
BEGIN:VEVENT
DTSTART;TZID=America/Argentina/Buenos_Aires:20220811T150000
DTEND;TZID=America/Argentina/Buenos_Aires:20220811T160000
DTSTAMP:20260425T013010
CREATED:20220804T120207Z
LAST-MODIFIED:20220804T203936Z
UID:10000093-1660230000-1660233600@hyperlinks.ar
SUMMARY:Aluar | Sistemas corredizos de alta prestación. Generalidades
DESCRIPTION:Aluar continúa con el Programa de Capacitación 2022 desde una amplia oferta de charlas y temarios exclusivamente desarrollados para profesionales de la Arquitectura y la Construcción\, desarrolladores\, distribuidores y Carpinteros de aluminio. \nLuego de los ciclos: «Aberturas y Fachadas» dictadas durante los meses de mayo y junio\, se desarrollarán\, también de manera virtual\, dos nuevos ciclos programados para los meses de agosto\, septiembre y octubre. \n \nDurante el mes de agosto\, se brindarán 4 charlas referidas a Sistemas corredizos de alta prestación\, en el que se abordarán las generalidades de esta tipología\, los accesorios y las líneas Altezza y A40 con su nueva tipología Fijo-Móvil. La inscripción para este ciclo ya está abierta. Se puede consultar las fechas y temarios: Aquí. \nPara el mes de septiembre está previsto el ciclo Barandas que se compone de 2 encuentros semanales y en el mes de octubre se dictarán 4 charlas con la temática “La abertura como sistema”\, con la participación de empresas relacionadas. \nEl programa de capacitación de Aluar\, desarrollado y dictado por personal del Área de Desarrollo de Producto y Asistencia Técnica\, tiene el objetivo de dar a conocer los nuevos desarrollos y tendencias del mercado\, no solo del aluminio sino además incorporando los elementos que conforman a la ventana en tanto sistema: el vidrio\, los herrajes y accesorios\, concientizando en la elección y en el uso correcto de dichos elementos\, para fortalecer y afianzar la CALIDAD desde la elección del producto ORIGINAL ALUAR según la exigencia y prestación del proyecto\, hasta su fabricación y la colocación. \nPara mayor información e inscripciones ingresar www.aluar.com.ar/cursos\, o bien  enviar un correo a: asistenciatecnica@aluar.com.ar \n[feather_share]
URL:https://hyperlinks.ar/evento/aluar-sistemsa-corredizos-de-alta-prestacion-generalidades/
LOCATION:On line
CATEGORIES:Capacitaciones
ATTACH;FMTTYPE=image/jpeg:https://hyperlinks.ar/wp-content/uploads/2022/06/aluar-evento-online-400x215-1.jpg
ORGANIZER;CN="Aluar":MAILTO:https://aluar.com.ar/contacto
END:VEVENT
BEGIN:VEVENT
DTSTART;VALUE=DATE:20220817
DTEND;VALUE=DATE:20220819
DTSTAMP:20260425T013010
CREATED:20220628T101454Z
LAST-MODIFIED:20220628T103708Z
UID:10000106-1660694400-1660867199@hyperlinks.ar
SUMMARY:Expo Real Estate Argentina
DESCRIPTION:Expo Real Estate es la exposición líder en latinoamérica y Estados Unidos\, dedicada a incentivar los negocios y las inversiones inmobiliarias en un marco de networking\, que reúne a todos los actores del sector inmobiliario. \nUsted podrá conocer las mejores oportunidades de inversión y los emprendimientos más destacados. \nSe presentarán las principales empresas proveedoras del sector exponiendo sus productos y servicios a desarrolladores\, compradores\, inversores\, los principales players del sector en diferentes locaciones de todo el país\, se exhiben desarrollos inmobiliarios internacionales que por única vez en el año estarán a su disposición en un sólo lugar. Oportunidad única para tomar contacto directo.
URL:https://hyperlinks.ar/evento/expo-real-estate-argentina/
LOCATION:Hilton Puerto Madero\, Macacha Güemes 351\, Puerto Madero\, Buenos Aires\, 1106\, Argentina
CATEGORIES:Ferias nacionales
ATTACH;FMTTYPE=image/jpeg:https://hyperlinks.ar/wp-content/uploads/2022/06/exporealestate.jpg
ORGANIZER;CN="Grupo S&G":MAILTO:info@gruposyg.com.ar
END:VEVENT
BEGIN:VEVENT
DTSTART;TZID=America/Argentina/Buenos_Aires:20220818T150000
DTEND;TZID=America/Argentina/Buenos_Aires:20220818T160000
DTSTAMP:20260425T013010
CREATED:20220804T120636Z
LAST-MODIFIED:20220804T203847Z
UID:10000092-1660834800-1660838400@hyperlinks.ar
SUMMARY:Aluar | Sistemas corredizos alzantes. Línea Altezza
DESCRIPTION:Aluar continúa con el Programa de Capacitación 2022 desde una amplia oferta de charlas y temarios exclusivamente desarrollados para profesionales de la Arquitectura y la Construcción\, desarrolladores\, distribuidores y Carpinteros de aluminio. \nLuego de los ciclos: «Aberturas y Fachadas» dictadas durante los meses de mayo y junio\, se desarrollarán\, también de manera virtual\, dos nuevos ciclos programados para los meses de agosto\, septiembre y octubre. \n \nDurante el mes de agosto\, se brindarán 4 charlas referidas a Sistemas corredizos de alta prestación\, en el que se abordarán las generalidades de esta tipología\, los accesorios y las líneas Altezza y A40 con su nueva tipología Fijo-Móvil. La inscripción para este ciclo ya está abierta. Se puede consultar las fechas y temarios: Aquí. \nPara el mes de septiembre está previsto el ciclo Barandas que se compone de 2 encuentros semanales y en el mes de octubre se dictarán 4 charlas con la temática “La abertura como sistema”\, con la participación de empresas relacionadas. \nEl programa de capacitación de Aluar\, desarrollado y dictado por personal del Área de Desarrollo de Producto y Asistencia Técnica\, tiene el objetivo de dar a conocer los nuevos desarrollos y tendencias del mercado\, no solo del aluminio sino además incorporando los elementos que conforman a la ventana en tanto sistema: el vidrio\, los herrajes y accesorios\, concientizando en la elección y en el uso correcto de dichos elementos\, para fortalecer y afianzar la CALIDAD desde la elección del producto ORIGINAL ALUAR según la exigencia y prestación del proyecto\, hasta su fabricación y la colocación. \nPara mayor información e inscripciones ingresar www.aluar.com.ar/cursos\, o bien  enviar un correo a: asistenciatecnica@aluar.com.ar \n[feather_share]
URL:https://hyperlinks.ar/evento/sistemas-corredizos-alzantes-linea-altezza/
LOCATION:On line
CATEGORIES:Capacitaciones
ATTACH;FMTTYPE=image/jpeg:https://hyperlinks.ar/wp-content/uploads/2022/06/aluar-evento-online-400x215-1.jpg
ORGANIZER;CN="Aluar":MAILTO:https://aluar.com.ar/contacto
END:VEVENT
BEGIN:VEVENT
DTSTART;TZID=America/Argentina/Buenos_Aires:20220819T190000
DTEND;TZID=America/Argentina/Buenos_Aires:20220819T200000
DTSTAMP:20260425T013010
CREATED:20220817T215153Z
LAST-MODIFIED:20220817T215300Z
UID:10000109-1660935600-1660939200@hyperlinks.ar
SUMMARY:Moderna Buenos Aires
DESCRIPTION:on la coordinación de Moderna Buenos Aires y la curaduría de Julián d’Angiolillo\, inicia este nuevo ciclo de Cineclub CPAU. A partir del 2020 se reformuló el CineClub en versión virtual\, debido al aislamiento social\, preventivo y obligatorio. Con el reinicio de las actividades presenciales decidimos reencontrarnos en el Auditorio CPAU para la función y conservar la posibilidad de asistir virtualmente para ampliar la capacidad de espectadores. \nIniciamos este ciclo con HUSEK\, de Daniela Seggiaro\, que en su film narra las vivencias de la comunidad wichi entre la atención del Estado y su propia realidad y necesidades. En esta función contaremos con la participación de la directora\, quien presentará su película\, premiada en el festival BioBioCine de Chile y seleccionada en numerosos festivales como Toulousse\, First look NY\, Ischia\, etc. Al finalizar la función\, debatiremos junto a los asistentes con la moderación de Julián d’Angiolillo. \n› Fecha: viernes 19 de agosto\, 19 horas. \n› Modalidad: inscripción presencial + inscripción streaming. \n› Lugar: Auditorio CPAU (25 de Mayo 482\, CABA) + Streaming por Youtube ➜ \nLa actividad requiere inscripción previa en ambas modalidades. \nIr al formulario ONLINE  ➜ \nIr al formulario PRESENCIAL  ➜
URL:https://hyperlinks.ar/evento/moderna-buenos-aires/
LOCATION:Auditorio CPAU\, 25 de Mayo 482\, Ciudad de Buenos Aires\, Buenos Aires\, 1002\, Argentina
CATEGORIES:Exhibiciones
ATTACH;FMTTYPE=image/jpeg:https://hyperlinks.ar/wp-content/uploads/2022/08/moderna-buenos-aires.jpg
END:VEVENT
BEGIN:VEVENT
DTSTART;VALUE=DATE:20220825
DTEND;VALUE=DATE:20220828
DTSTAMP:20260425T013010
CREATED:20220622T130105Z
LAST-MODIFIED:20220622T134032Z
UID:10000073-1661385600-1661644799@hyperlinks.ar
SUMMARY:Expo Eficiencia Energética
DESCRIPTION:Exposición internacional que reúne durante tres días de negocios\, a empresas\, instituciones\, organismos públicos y privados\, quienes darán a conocer los últimos adelantos tecnológicos\, acerca del uso racional de la energía\, todo lo relacionado al desarrollo sustentable y el cuidado del medio ambiente en Argentina. \nEn paralelo\, y a través de un programa de conferencias especializadas\, los profesionales de distintos sectores\, disertarán acerca de las energías renovables\, energías alternativas\, políticas a seguir\, y nuevas técnicas con el objetivo de optimizar el uso energético en todos los ámbitos. \n[feather_share]
URL:https://hyperlinks.ar/evento/expo-eficiencia-energetica/
LOCATION:Centro Costa Salguero\, Av. Costanera Rafael Obligado 1221\, Buenos Aires\, Buenos Aires\, 1425\, Argentina
CATEGORIES:Ferias nacionales
ATTACH;FMTTYPE=image/jpeg:https://hyperlinks.ar/wp-content/uploads/2022/06/expoeficiencia.jpg
END:VEVENT
BEGIN:VEVENT
DTSTART;TZID=America/Argentina/Buenos_Aires:20220825T103000
DTEND;TZID=America/Argentina/Buenos_Aires:20220825T120000
DTSTAMP:20260425T013010
CREATED:20220622T164137Z
LAST-MODIFIED:20220622T164137Z
UID:10000066-1661423400-1661428800@hyperlinks.ar
SUMMARY:Especial BIM para infraestructura
DESCRIPTION:
URL:https://hyperlinks.ar/evento/especial-bim-para-infraestructura/
LOCATION:BIM en acción\, Av. Paseo Colón 823\, CABA\, Buenos Aires\, 1063\, Argentina
CATEGORIES:Capacitaciones
ATTACH;FMTTYPE=image/jpeg:https://hyperlinks.ar/wp-content/uploads/2022/06/logo-BIM-en-accion-400x125-1.jpg
GEO:-34.6173602;-58.3721019
X-APPLE-STRUCTURED-LOCATION;VALUE=URI;X-ADDRESS=BIM en acción Av. Paseo Colón 823 CABA Buenos Aires 1063 Argentina;X-APPLE-RADIUS=500;X-TITLE=Av. Paseo Colón 823:geo:-58.3721019,-34.6173602
END:VEVENT
BEGIN:VEVENT
DTSTART;TZID=America/Argentina/Buenos_Aires:20220825T150000
DTEND;TZID=America/Argentina/Buenos_Aires:20220825T160000
DTSTAMP:20260425T013010
CREATED:20220804T120757Z
LAST-MODIFIED:20220804T203820Z
UID:10000091-1661439600-1661443200@hyperlinks.ar
SUMMARY:Aluar | Accesorios para sistemas corredizos
DESCRIPTION:Aluar continúa con el Programa de Capacitación 2022 desde una amplia oferta de charlas y temarios exclusivamente desarrollados para profesionales de la Arquitectura y la Construcción\, desarrolladores\, distribuidores y Carpinteros de aluminio. \nLuego de los ciclos: «Aberturas y Fachadas» dictadas durante los meses de mayo y junio\, se desarrollarán\, también de manera virtual\, dos nuevos ciclos programados para los meses de agosto\, septiembre y octubre. \n \nDurante el mes de agosto\, se brindarán 4 charlas referidas a Sistemas corredizos de alta prestación\, en el que se abordarán las generalidades de esta tipología\, los accesorios y las líneas Altezza y A40 con su nueva tipología Fijo-Móvil. La inscripción para este ciclo ya está abierta. Se puede consultar las fechas y temarios: Aquí. \nPara el mes de septiembre está previsto el ciclo Barandas que se compone de 2 encuentros semanales y en el mes de octubre se dictarán 4 charlas con la temática “La abertura como sistema”\, con la participación de empresas relacionadas. \nEl programa de capacitación de Aluar\, desarrollado y dictado por personal del Área de Desarrollo de Producto y Asistencia Técnica\, tiene el objetivo de dar a conocer los nuevos desarrollos y tendencias del mercado\, no solo del aluminio sino además incorporando los elementos que conforman a la ventana en tanto sistema: el vidrio\, los herrajes y accesorios\, concientizando en la elección y en el uso correcto de dichos elementos\, para fortalecer y afianzar la CALIDAD desde la elección del producto ORIGINAL ALUAR según la exigencia y prestación del proyecto\, hasta su fabricación y la colocación. \nPara mayor información e inscripciones ingresar www.aluar.com.ar/cursos\, o bien  enviar un correo a: asistenciatecnica@aluar.com.ar \n[feather_share]
URL:https://hyperlinks.ar/evento/aluar-accesorios-para-sistemas-corredizos/
LOCATION:On line
CATEGORIES:Capacitaciones
ATTACH;FMTTYPE=image/jpeg:https://hyperlinks.ar/wp-content/uploads/2022/06/aluar-evento-online-400x215-1.jpg
ORGANIZER;CN="Aluar":MAILTO:https://aluar.com.ar/contacto
END:VEVENT
BEGIN:VEVENT
DTSTART;VALUE=DATE:20220829
DTEND;VALUE=DATE:20220830
DTSTAMP:20260425T013010
CREATED:20220817T210952Z
LAST-MODIFIED:20220817T211136Z
UID:10000085-1661731200-1661817599@hyperlinks.ar
SUMMARY:Proyectar a conciencia
DESCRIPTION:Una búsqueda por la nueva imagen institucional sudamericana. \nCelebrando la media década de la iniciativa\, se lanza la convocatoria a la quinta versión de “Proyectar a Conciencia” a un plano internacional – invitando a estudiantes y/o arquitectos de/en Uruguay\, Argentina\, Chile\, Bolivia y Perú\, a presentar anteproyectos de rehabilitación energética y transformación edilicia de infraestructura institucional\, privada o pública\, existente. \nDejando a criterio de los concursantes la elección del caso\, el interés está en las edificaciones que tanto por su tamaño\, presencia urbana\, rol\, función o identidad “institucional” puedan manifestar y comunicar\, mediante su rehabilitación\, la visión de una mejor sociedad. \nEl jurado será compuesto por Arq. Loreto Lyon\, Arq. Mirene Elton\, Arq. Paola Valencia\, Arq. María Inés Buzzoni y Arq. María Fernanda Aguirre. \nFecha \nLos equipos serán abiertos a estudiantes\, docentes y/o profesionales de la arquitectura y/o arquitectura del paisaje; con un máximo de cuatro integrantes. Las inscripciones\, a más tardar el lunes 29 de agosto del 2022\, se realizarán al correo quieroproyectar@proyectaraconciencia.com (cc nschultz@stocorp.com)\, momento en el cual los equipos recibirán su código y demás descargables para la entrega\, cual será digital vía WeTransfer\, a los mismos correos. \nLos canales de comunicación serán los correos mencionados y el Instagram @proyectar.a.conciencia\, cual deberá ser seguido por los concursantes. \nPremios \nLos premios serán la creación de videos personalizados de cada equipo ganador presentando sus proyectos para las redes sociales\, y 5.000 USD (1er lugar)\, 3.500 USD (2do lugar) y 2.000 USD (3er lugar); todos en bruto\, debiendo el equipo hacerse cargo de todos los gastos relacionados al abono del premio. \nLa fecha de entrega final se plantea para el domingo 11 de diciembre. \n[feather_share]
URL:https://hyperlinks.ar/evento/proyectar-a-conciencia/
LOCATION:On line
CATEGORIES:Concursos
ATTACH;FMTTYPE=image/jpeg:https://hyperlinks.ar/wp-content/uploads/2022/08/logo-proyectar-conciencia.jpg
END:VEVENT
END:VCALENDAR