BEGIN:VCALENDAR
VERSION:2.0
PRODID:-//Hyperlinks - ECPv6.7.0//NONSGML v1.0//EN
CALSCALE:GREGORIAN
METHOD:PUBLISH
X-ORIGINAL-URL:https://hyperlinks.ar
X-WR-CALDESC:Eventos para Hyperlinks
REFRESH-INTERVAL;VALUE=DURATION:PT1H
X-Robots-Tag:noindex
X-PUBLISHED-TTL:PT1H
BEGIN:VTIMEZONE
TZID:America/Argentina/Buenos_Aires
BEGIN:STANDARD
TZOFFSETFROM:-0300
TZOFFSETTO:-0300
TZNAME:-03
DTSTART:20220101T000000
END:STANDARD
END:VTIMEZONE
BEGIN:VEVENT
DTSTART;VALUE=DATE:20220628
DTEND;VALUE=DATE:20221006
DTSTAMP:20260421T054634
CREATED:20220628T091719Z
LAST-MODIFIED:20220628T092435Z
UID:10000107-1656374400-1665014399@hyperlinks.ar
SUMMARY:Talents Messe Frankfurt
DESCRIPTION:Jóvenes diseñadores del campo del diseño de interiores están invitados a postularse. \nBajo el nombre de Talents Messe Frankfurt patrocina a jóvenes diseñadores en Ambiente. Además del espacio de exhibición gratuito en un área especialmente diseñada\, el programa Talents ofrece a los participantes una plataforma de alto nivel para establecer contactos\, obtener comentarios directos y establecer contactos importantes para el comercio y la industria. La diversidad de participantes elegidos garantizará que en la exposición se muestre una amplia variedad de diseños. \nParticipación\nPara participar en el programa promocional\, todo lo que tiene que hacer es registrarse en línea y enviar fotos representativas de sus proyectos/objetos en nuestra plataforma en línea. Al participar en el programa de apoyo\, se debe asegurar que el stand gratuito asignado permanezca decorado con los productos y esté atendido durante toda la duración del evento. \nEnvíe sus solicitudes exclusivamente en línea antes del 5 de octubre de 2022. \nRegistro https://www.ambiente-application.com/talents/en/register/
URL:https://hyperlinks.ar/evento/talents-messe-frankfurt/
LOCATION:Congress Center Messe Frankfurt\, Ludwig-Erhard-Anlage 1\, Frankfurt\, 60327\, Alemania
CATEGORIES:Ferias internacionales
ATTACH;FMTTYPE=image/jpeg:https://hyperlinks.ar/wp-content/uploads/2022/06/ambiente.jpg
END:VEVENT
BEGIN:VEVENT
DTSTART;TZID=America/Argentina/Buenos_Aires:20220809T190000
DTEND;TZID=America/Argentina/Buenos_Aires:20221018T210000
DTSTAMP:20260421T054634
CREATED:20220711T203046Z
LAST-MODIFIED:20220711T203654Z
UID:10000099-1660071600-1666126800@hyperlinks.ar
SUMMARY:CURSO DE CERTIFICACIÓN LEED
DESCRIPTION:Certificación LEED v4: Diseño\, Desarrollo y Aplicación a Proyectos de Arquitectura & Obras de Construcción. \nDesarrollado por el U.S. Green Building Council (USGBC)\, LEED™ es el estándar de diseño ambiental más distinguido y ampliamente aceptado de la certificación de la construcción sustentable. LEED™ es la norma principal de la construcción sostenible y proporciona los conocimientos básicos para los interesados en la construcción sustentable.\nLas personas que obtengan una credencial sostenible obtendrán una ventaja competitiva en el mercado laboral actual\, incluso sin experiencia previa. LEED es un sistema de certificación con una década de presencia en Argentina contando con numerosos proyectos registrados y certificados en el país. Argentina Green Building Council (AGBC) como miembro pleno del World Green Building y USGBC desde el año 2009\, participa activamente en el Comité de asesores del LEED™ International Roundtable\, impulsada por el conocimiento colectivo de los Consejos de Construcción Verde que representan a varios países del mundo. \n[feather_share]
URL:https://hyperlinks.ar/evento/curso-de-certificacion-leed/
LOCATION:On line
CATEGORIES:Capacitaciones
ATTACH;FMTTYPE=image/jpeg:https://hyperlinks.ar/wp-content/uploads/2022/07/cursoleed-2020.jpg
ORGANIZER;CN="Argentina Green Building Council":MAILTO:educacion@argentinagbc.org.ar
END:VEVENT
BEGIN:VEVENT
DTSTART;TZID=America/Argentina/Buenos_Aires:20220920T080000
DTEND;TZID=America/Argentina/Buenos_Aires:20221010T170000
DTSTAMP:20260421T054634
CREATED:20220920T164349Z
LAST-MODIFIED:20220920T165003Z
UID:10000112-1663660800-1665421200@hyperlinks.ar
SUMMARY:ASOMA
DESCRIPTION:ASOMA\, Asociación del Mueble Argentino\, lanza los Premios ASOMA. Anualmente se distinguirá al diseño de muebles para promover su relación con la industria así como para impulsar la innovación\, el bienestar y la  sustentabilidad. En este marco\, está abierta la inscripción al Premio ASOMA Revelación\, que invita a participar a diseñadores de todo el país\, presentando sus productos hasta el 10 de octubre en www.asomaweb.ar Los trabajos seleccionados serán exhibidos en el 1° Salón del Mueble Argentino -SMA-\, del 17 al 21 de octubre en la ciudad de Córdoba. El 2° SMA 2022 se realizará del 12 al 16 de diciembre en el MARQ\, Museo de Arquitectura y Diseño de Buenos Aires\, para exhibir y entregar los Premios ASOMA a los mejores diseños del año. \n  \n“Los Premios ASOMA son una ambiciosa iniciativa con diversas acciones anuales y proyectada a largo plazo\, que busca impulsar la articulación en toda la cadena del mueble argentino\, desde sus variables productivas\, de comercialización y culturales -destacó Gustavo Viano\, presidente de ASOMA\, en el marco de la reciente 16° FIMAR Expo. En este primer año la acción tendrá tres fases\, comenzando por una convocatoria a diseñadores a nivel nacional a presentar sus productos para aspirar al Premio ASOMA Revelación. Podrán presentarse trabajos producidos o implementados que hayan -al menos- arribado a la etapa de prototipos y/o maquetas\, en proyectos diseñados\, producidos o comercializados en los tres últimos años\, por diseñadores o empresas y sus diseñadores (de planta o externos). La inscripción se realiza en forma muy simple cargando las imágenes en la página www.asomaweb.ar hasta el 10 de octubre. La segunda fase será la exposición de los trabajos seleccionados en un primer Salón del Mueble Argentino -SMA Córdoba 2022-\, del 17 al 21 de octubre en la capital cordobesa\, en el marco de la III° Bienal Internacional de Diseño “Córdoba Ciudad Diseño”. \n  \nLa tercera fase será en Buenos Aires\, con el Salón del Mueble Argentino -SMA Buenos Aires 2022– que se realizará del 12 al 16 de diciembre en el MARQ\, Museo de Arquitectura y Diseño de Buenos Aires. Allí se exhibirán los productos seleccionados del Premio ASOMA Revelación y a la vez un grupo de diseñadores convocados por invitación\, competirán por el Premio ASOMA 2022. Se trata de un reconocimiento a productos diseñados por profesionales de comprobada trayectoria\, que han representado el país en muestras\, exposiciones y publicaciones tanto a nivel nacional como internacional. \nAmbas distinciones\, el Premio ASOMA Revelación 2022 y el Premio ASOMA 2022 se resolverán por un jurado compuesto por los empresarios Roberto Fontenla (CEMA) y Jorge Drimer (ASOMA)\, el diseñador Arq. Rubén Mochi (Cafydma)\, la D.I. Anabella Rondina (FADU\,UBA) y la crítica Lic. Marcela Fibbiani. El asesor y curador de las dos exposiciones será el Arq. Jonny Gallardo (FAUD – UNC). La entrega de ambas distinciones y diplomas se realizará el 12 de diciembre en el MARQ. Inscripciones para el Premio ASOMA Revelación hasta el 10 de octubre en  www.asomaweb.ar \n\nACERCA DE ASOMA: ASOMA –Asociación del Mueble Argentino- es la entidad representativa de la industria del Mueble en Argentina\, con una proyección que trasciende lo sectorial hacia lo social\, cultural y político. Sus objetivos se centran en apoyar la articulación en toda la cadena productiva\, de comercialización y cultural en torno al mobiliario\, para llegar al consumidor con productos de calidad\, confortables\, novedosos y funcionales.  ASOMA\, cuyo actual presidente es Gustavo Viano\, está constituida por seis Cámaras de la Madera de Argentina: CAMMEC -Córdoba-\, CAMAF -San Francisco-\, CEMA y CAFYDMA -Buenos Aires-\, CIMA -Cañada de Gómez- y Cámara  Madera Río Cuarto. ASOMA lleva a cabo diversas acciones como FIMAR Expo -con 16 ediciones-\, el Salón del Mueble Argentino -SMA-\, FIMAR Online y otras. Desde 2022 se llevan a cabo los Premios ASOMA que premian anualmente a productos terminados que se distingan por su capacidad de innovación\, calidad estética y ergonómica\, evolución tecnológica\, factibilidad productiva y compromiso sustentable. www.asomaweb.ar/premios-asoma \n 
URL:https://hyperlinks.ar/evento/asoma/
LOCATION:Buenos Aires
CATEGORIES:Concursos
ATTACH;FMTTYPE=image/jpeg:https://hyperlinks.ar/wp-content/uploads/2022/09/premio-asoma.jpg
END:VEVENT
BEGIN:VEVENT
DTSTART;VALUE=DATE:20220928
DTEND;VALUE=DATE:20221003
DTSTAMP:20260421T054634
CREATED:20220817T200410Z
LAST-MODIFIED:20220817T202645Z
UID:10000087-1664323200-1664755199@hyperlinks.ar
SUMMARY:Bienal de Arquitectura de Buenos Aires
DESCRIPTION:Vuelve la Bienal Internacional de Arquitectura de Buenos Aires. Volver significa cambiar\, adaptarse a las nuevas formas de exhibición\, comunicación y participación..\nLa Bienal Internacional de Arquitectura de Buenos Aires\, pionera de las Bienales de Latinoamérica y reconocida dentro de la trilogía más  relevante\, junto con la de Venecia y San Pablo\, estrena para su edición 2022 un nuevo formato y propone\, entre el 28/9 y el 2/10\, un encuentro de cinco días en el Faena Art Center de Buenos Aires.\nEste año la Bienal extenderá su programa hacia el espacio público de la ciudad\, generando una plataforma de producción y reflexión  contemporánea\, en base a propuestas interdisciplinarias y diálogos entre la arquitectura\, el urbanismo\, el arte y el diseño.\nInclusión\, integración y sustentabilidad serán algunos de los temas principales de la Bienal 2022\, buscando formas de disolver las fronteras sociales y maneras de asimilar propositivamente los cambios que se están produciendo en la vida urbana.\nEn este contexto y articulada con algunas de las instituciones culturales más relevantes de Buenos Aires\, la Bienal ofrecerá actividades presenciales y un programa virtual expandido tendiente a amplificar el impacto de sus contenidos y el alcance de sus\npúblicos.\nLa organización del evento está a cargo de la Asociación Bienal Internacional de Arquitectura de Buenos Aires\, CAYC y 90_20. \n[feather_share] \n 
URL:https://hyperlinks.ar/evento/bienal-de-arquitectura-de-buenos-aires/
LOCATION:Faena Art Center\, Aimé Painé 1169\, Ciudad de Buenos Aires\, Buenos Aires\, 1107\, Argentina
CATEGORIES:Ferias internacionales
ATTACH;FMTTYPE=image/jpeg:https://hyperlinks.ar/wp-content/uploads/2022/08/labienal.jpg
ORGANIZER;CN="Asociaci%C3%B3n Bienal Internacional de Arquitectura de Buenos Aires":MAILTO:info@labienalarq.com.ar
END:VEVENT
BEGIN:VEVENT
DTSTART;VALUE=DATE:20221001
DTEND;VALUE=DATE:20221003
DTSTAMP:20260421T054634
CREATED:20220817T205731Z
LAST-MODIFIED:20220817T210555Z
UID:10000086-1664582400-1664755199@hyperlinks.ar
SUMMARY:Open House Buenos Aires
DESCRIPTION:El festival está dirigido a todo aquel que esté interesado en redescubrir la arquitectura y el urbanismo de la ciudad de Buenos Aires. Pone a disposición una serie de interiores privados de valor arquitectónico\, cultural y patrimonial –que por lo general están cerrados al público–para ser visitados con la colaboración de aquellos voluntarios que generosamente ofrecen su tiempo para acompañar y comentar las recorridas. \nDe esa manera\, construye a través de la voluntad y el trabajo de todos\, un conocimiento colectivo y compartido que busca desarrollar herramientas que permitan agudizar la mirada sobre nuestra ciudad. Así nos volvemos capaces de exigir lugares de calidad para el desarrollo de la vida urbana. Los ciudadanos de cada barrio podrán conocer el patrimonio más cercano y el más lejano\, el particular y el público\, y situarlo dentro de la experiencia y la historia de cada uno\, aprendiendo a valorarlo. \nOpen House Buenos Aires forma parte de Open House Worldwide Family. El el concepto Open House se desarrolla en todo el mundo y en los 5 continentes\, en ciudades como Londres (ciudad fundadora)\, Melobourne\, New York\, Roma\, Madrid\, entre otras. En 2018 se incorporó la segunda ciudad Argentina: Rosario. Un fin de semana al año cada ciudad\, bajo el mismo concepto internacional y con una organización local\, acerca los ejemplos más notables e influyentes de la arquitectura el urbanismo y el diseño de cada ciudad y de forma totalmente gratuita para que sus habitantes los visiten. \n[feather_share]
URL:https://hyperlinks.ar/evento/open-house-buenos-aires/
LOCATION:Buenos Aires
CATEGORIES:Ferias internacionales
ATTACH;FMTTYPE=image/jpeg:https://hyperlinks.ar/wp-content/uploads/2022/08/open-house.jpg
END:VEVENT
BEGIN:VEVENT
DTSTART;VALUE=DATE:20221003
DTEND;VALUE=DATE:20221007
DTSTAMP:20260421T054634
CREATED:20220622T182516Z
LAST-MODIFIED:20220622T182516Z
UID:10000097-1664755200-1665100799@hyperlinks.ar
SUMMARY:Edifica
DESCRIPTION:Tecnoperfiles estará presente en EDIFICA\, la exposición internacional de la construcción chilena\, que se llevará a cabo del 3 al 6 de octubre. \nEDIFICA es el gran evento bienal y la Feria más importante de la construcción de Hispanoamérica donde se reúnen proveedores visitantes\, profesionales y representantes de los sectores público y privado. La exhibición es organizada por la Cámara Chilena de la Construcción (CChC) y co-organizada por FISA. \nEdifica que ya cuenta con 21 versiones\, es un espacio privilegiado para el intercambio comercial\, la introducción de nuevas tecnologías y el mejoramiento de la productividad en la ejecución y operación de grandes proyectos de inversión. \n[feather_share]
URL:https://hyperlinks.ar/evento/edifica/
LOCATION:Buenos Aires
CATEGORIES:Ferias internacionales
ATTACH;FMTTYPE=image/jpeg:https://hyperlinks.ar/wp-content/uploads/2022/06/edifica.jpg
ORGANIZER;CN="Camara Chilena de la Construcci%C3%B3n":MAILTO:ventas@edifica.cl
END:VEVENT
BEGIN:VEVENT
DTSTART;VALUE=DATE:20221007
DTEND;VALUE=DATE:20221010
DTSTAMP:20260421T054634
CREATED:20220822T130648Z
LAST-MODIFIED:20220822T130648Z
UID:10000110-1665100800-1665359999@hyperlinks.ar
SUMMARY:arteba
DESCRIPTION:arteba es el evento más importante de las artes visuales en la Ciudad\, pone foco en los artistas latinoamericanos y hace énfasis en lo moderno y contemporáneo. En 2021 cumplió su 30 aniversario y celebró con una feria híbrida: presencialidaden el barrio de La Boca\, y una cargada agenda virtual para que nadie se quede afuera. En total\, hubo 59 galerías que presentaron a 300 artistas. \nContó con espacios al aire libre para encontrarse galeristas\, curadores\, críticos\, directores de museos e instituciones\, artistas y público en general. \n[feather_share] \n 
URL:https://hyperlinks.ar/evento/arteba/
LOCATION:Centro Costa Salguero\, Av. Costanera Rafael Obligado 1221\, Buenos Aires\, Buenos Aires\, 1425\, Argentina
CATEGORIES:Ferias nacionales
ATTACH;FMTTYPE=image/jpeg:https://hyperlinks.ar/wp-content/uploads/2022/08/arteba.jpg
END:VEVENT
BEGIN:VEVENT
DTSTART;TZID=America/Argentina/Buenos_Aires:20221010T100000
DTEND;TZID=America/Argentina/Buenos_Aires:20221210T210000
DTSTAMP:20260421T054634
CREATED:20220713T183905Z
LAST-MODIFIED:20220713T190535Z
UID:10000096-1665396000-1670706000@hyperlinks.ar
SUMMARY:An Atlas of Commoning en Buenos Aires
DESCRIPTION:Una exhibición de ifa (Institut für Auslandsbeziehungen – Instituto de Relaciones Exteriores) en colaboración con ARCH+ (revista de arquitectura). \nEl proyecto de exposición y publicación “An Atlas of Commoning” tiene como objetivo recuperar y redefinir el espacio abierto y emancipador del “nosotros” como concepto. Se centra en los bienes comunes urbanos entendidos como un conjunto de prácticas que se ocupan de la producción y gestión de recursos (materiales e inmateriales) y espacios colectivos en general. Según el equipo curatorial\, “commoning” como verbo en el título del proyecto en inglés enfatiza las actividades prácticas de “hacer lo común”. ¡Agendalo! \n \n[feather_share]
URL:https://hyperlinks.ar/evento/an-atlas-of-commoning-en-buenos-aires/
LOCATION:MARQ\, Av. del Libertador 999\, CABA\, Buenos Aires\, C1001\, Argentina
CATEGORIES:Exhibiciones
ATTACH;FMTTYPE=image/jpeg:https://hyperlinks.ar/wp-content/uploads/2022/07/An-Atlas-of-Commoning.jpg
ORGANIZER;CN="MARQ Museo de Arquitectura y Dise%C3%B1o":MAILTO:museo@socearq.org
GEO:-34.5343674;-58.4744191
X-APPLE-STRUCTURED-LOCATION;VALUE=URI;X-ADDRESS=MARQ Av. del Libertador 999 CABA Buenos Aires C1001 Argentina;X-APPLE-RADIUS=500;X-TITLE=Av. del Libertador 999:geo:-58.4744191,-34.5343674
END:VEVENT
BEGIN:VEVENT
DTSTART;TZID=America/Argentina/Buenos_Aires:20221018T090000
DTEND;TZID=America/Argentina/Buenos_Aires:20221018T130000
DTSTAMP:20260421T054634
CREATED:20220901T180616Z
LAST-MODIFIED:20220901T180616Z
UID:10000111-1666083600-1666098000@hyperlinks.ar
SUMMARY:Foro Hidrogeno
DESCRIPTION:La crisis energética internacional como también los desafíos locales del sector resaltan una clara y urgente necesidad de una hoja de ruta estratégica para el desarrollo del hidrógeno en el país.\nEn este encuentro dialogaremos con expertos sobre las oportunidades que ofrece este mercado en Argentina\, pero también sobre los desafíos que hay que enfrentar. Además\, ahondaremos en el potencial de la cooperación con Alemania como partner estratégico en este camino y compartiremos experiencias y soluciones para impulsar el desarrollo del hidrógeno\, tanto para el abastecimiento local como para los mercados de exportación.
URL:https://hyperlinks.ar/evento/foro-hidrogeno/
LOCATION:AHK\, Av. Corrientes 327\, Piso 24\, Salón Bosch\, CABA\, Ciudad de Buenos Aires\, Buenos Aires\, 1043\, Argentina
CATEGORIES:Capacitaciones
ATTACH;FMTTYPE=image/png:https://hyperlinks.ar/wp-content/uploads/2022/09/foro-hidrogeno.png
ORGANIZER;CN="AHK":MAILTO:afernandez@ahkargentina.com.ar
END:VEVENT
BEGIN:VEVENT
DTSTART;TZID=America/Argentina/Buenos_Aires:20221027T103000
DTEND;TZID=America/Argentina/Buenos_Aires:20221027T120000
DTSTAMP:20260421T054634
CREATED:20220622T164332Z
LAST-MODIFIED:20220622T164332Z
UID:10000064-1666866600-1666872000@hyperlinks.ar
SUMMARY:Tendencias de la AEC
DESCRIPTION:
URL:https://hyperlinks.ar/evento/tendencias-de-la-aec/
LOCATION:BIM en acción\, Av. Paseo Colón 823\, CABA\, Buenos Aires\, 1063\, Argentina
CATEGORIES:Capacitaciones
ATTACH;FMTTYPE=image/jpeg:https://hyperlinks.ar/wp-content/uploads/2022/06/logo-BIM-en-accion-400x125-1.jpg
GEO:-34.6173602;-58.3721019
X-APPLE-STRUCTURED-LOCATION;VALUE=URI;X-ADDRESS=BIM en acción Av. Paseo Colón 823 CABA Buenos Aires 1063 Argentina;X-APPLE-RADIUS=500;X-TITLE=Av. Paseo Colón 823:geo:-58.3721019,-34.6173602
END:VEVENT
END:VCALENDAR