BEGIN:VCALENDAR
VERSION:2.0
PRODID:-//Hyperlinks - ECPv6.7.0//NONSGML v1.0//EN
CALSCALE:GREGORIAN
METHOD:PUBLISH
X-WR-CALNAME:Hyperlinks
X-ORIGINAL-URL:https://hyperlinks.ar
X-WR-CALDESC:Eventos para Hyperlinks
REFRESH-INTERVAL;VALUE=DURATION:PT1H
X-Robots-Tag:noindex
X-PUBLISHED-TTL:PT1H
BEGIN:VTIMEZONE
TZID:America/Argentina/Buenos_Aires
BEGIN:STANDARD
TZOFFSETFROM:-0300
TZOFFSETTO:-0300
TZNAME:-03
DTSTART:20220101T000000
END:STANDARD
END:VTIMEZONE
BEGIN:VEVENT
DTSTART;VALUE=DATE:20220701
DTEND;VALUE=DATE:20220901
DTSTAMP:20260421T053238
CREATED:20220808T183258Z
LAST-MODIFIED:20220808T190554Z
UID:10000089-1656633600-1661990399@hyperlinks.ar
SUMMARY:Premio Azcuy
DESCRIPTION:El Premio Azcuy es un concurso nacional dirigido a artistas argentinos\, o que residan hace más de tres años en el país\, ya sean individuales o colectivos. Su misión es reconocer\, difundir y fomentar la producción artística local\, estimulando la puesta en valor del arte nacional. Es organizado por cuarto año consecutivo\, por Azcuy\, la compañía integral de real estate\, en alianza con el Museo de Arte Moderno de Buenos Aires (institución dependiente del Ministerio de Cultura del Gobierno de la Ciudad). \nCada año\, a los artistas se los invita a presentar un proyecto de obra que conciban especialmente para uno de los edificios diseñados y desarrollados por Azcuy. Este año será para intervenir el edificio Donna Magna. \nDe esta manera\, el Premio busca producir obras que respondan de manera directa al entorno en el que vivimos y activen en él nuevas experiencias estéticas\, sociales\, históricas y arquitectónicas. Es además\, para los artistas\, una oportunidad única de llevar su práctica a nuevos escenarios y escalas. \nEl Premio Azcuy otorga un único premio al proyecto ganador que\, en su edición 2022\, será de $2.000.000 (dos millones de pesos argentinos) más la producción de la obra. \n \n[feather_share]
URL:https://hyperlinks.ar/evento/premio-azcuy/
LOCATION:On line
CATEGORIES:Concursos
ATTACH;FMTTYPE=image/png:https://hyperlinks.ar/wp-content/uploads/2022/08/PREMIO_azcuy_logo.png
END:VEVENT
END:VCALENDAR